BEGIN:VCALENDAR
VERSION:2.0
PRODID:-//ADVI | Australia and New Zealand Driverless Vehicle Initiative - ECPv4.9.6//NONSGML v1.0//EN
CALSCALE:GREGORIAN
METHOD:PUBLISH
X-WR-CALNAME:ADVI | Australia and New Zealand Driverless Vehicle Initiative
X-ORIGINAL-URL:https://advi.org.au
X-WR-CALDESC:Events for ADVI | Australia and New Zealand Driverless Vehicle Initiative
BEGIN:VTIMEZONE
TZID:"America/Los_Angeles"
BEGIN:DAYLIGHT
TZOFFSETFROM:-0800
TZOFFSETTO:-0700
TZNAME:PDT
DTSTART:20200308T100000
END:DAYLIGHT
BEGIN:STANDARD
TZOFFSETFROM:-0700
TZOFFSETTO:-0800
TZNAME:PST
DTSTART:20201101T090000
END:STANDARD
END:VTIMEZONE
BEGIN:VEVENT
DTSTART;TZID="America/Los_Angeles":20201022T090000
DTEND;TZID="America/Los_Angeles":20201022T220000
DTSTAMP:20210226T165527
CREATED:20201001T011659Z
LAST-MODIFIED:20201001T011659Z
UID:7999-1603357200-1603404000@advi.org.au
SUMMARY:World Safety Summit 2020
DESCRIPTION:
URL:https://advi.org.au/event/world-safety-summit-2020/
END:VEVENT
END:VCALENDAR