BEGIN:VCALENDAR
VERSION:2.0
PRODID:-//ADVI | Australia and New Zealand Driverless Vehicle Initiative - ECPv4.9.6//NONSGML v1.0//EN
CALSCALE:GREGORIAN
METHOD:PUBLISH
X-WR-CALNAME:ADVI | Australia and New Zealand Driverless Vehicle Initiative
X-ORIGINAL-URL:https://advi.org.au
X-WR-CALDESC:Events for ADVI | Australia and New Zealand Driverless Vehicle Initiative
BEGIN:VTIMEZONE
TZID:"Australia/Perth"
BEGIN:STANDARD
TZOFFSETFROM:+0800
TZOFFSETTO:+0800
TZNAME:AWST
DTSTART:20200101T000000
END:STANDARD
END:VTIMEZONE
BEGIN:VEVENT
DTSTART;TZID="Australia/Perth":20201123T163000
DTEND;TZID="Australia/Perth":20201123T183000
DTSTAMP:20210222T090416
CREATED:20201112T010304Z
LAST-MODIFIED:20201112T010304Z
UID:8061-1606149000-1606156200@advi.org.au
SUMMARY:ARRB & ADVI Perth Office Opening
DESCRIPTION:
URL:https://advi.org.au/event/arrb-advi-perth-office-opening/
LOCATION:ARRB Perth Office\, Suite 4B\, Level 2\, 1 Hood Street\, Subiaco\, WA\, 6008\, Australia
END:VEVENT
END:VCALENDAR