BEGIN:VCALENDAR
VERSION:2.0
PRODID:-//ADVI | Australia and New Zealand Driverless Vehicle Initiative - ECPv4.9.6//NONSGML v1.0//EN
CALSCALE:GREGORIAN
METHOD:PUBLISH
X-WR-CALNAME:ADVI | Australia and New Zealand Driverless Vehicle Initiative
X-ORIGINAL-URL:https://advi.org.au
X-WR-CALDESC:Events for ADVI | Australia and New Zealand Driverless Vehicle Initiative
BEGIN:VTIMEZONE
TZID:"Australia/Sydney"
BEGIN:STANDARD
TZOFFSETFROM:+1100
TZOFFSETTO:+1000
TZNAME:AEST
DTSTART:20200404T160000
END:STANDARD
BEGIN:DAYLIGHT
TZOFFSETFROM:+1000
TZOFFSETTO:+1100
TZNAME:AEDT
DTSTART:20201003T160000
END:DAYLIGHT
END:VTIMEZONE
BEGIN:VEVENT
DTSTART;VALUE=DATE:20201203
DTEND;VALUE=DATE:20201204
DTSTAMP:20210225T094221
CREATED:20201118T053901Z
LAST-MODIFIED:20201125T051352Z
UID:8098-1606953600-1607039999@advi.org.au
SUMMARY:ADVI Sydney Networking Event
DESCRIPTION:SYDNEY ADVI_TFNSW Industry Event Invitation\n
URL:https://advi.org.au/event/advi-sydney-networking-event/
END:VEVENT
END:VCALENDAR