BEGIN:VCALENDAR
VERSION:2.0
PRODID:-//ADVI | Australia and New Zealand Driverless Vehicle Initiative - ECPv4.9.6//NONSGML v1.0//EN
CALSCALE:GREGORIAN
METHOD:PUBLISH
X-WR-CALNAME:ADVI | Australia and New Zealand Driverless Vehicle Initiative
X-ORIGINAL-URL:https://advi.org.au
X-WR-CALDESC:Events for ADVI | Australia and New Zealand Driverless Vehicle Initiative
BEGIN:VTIMEZONE
TZID:"Australia/Adelaide"
BEGIN:STANDARD
TZOFFSETFROM:+1030
TZOFFSETTO:+0930
TZNAME:ACST
DTSTART:20190406T163000
END:STANDARD
BEGIN:DAYLIGHT
TZOFFSETFROM:+0930
TZOFFSETTO:+1030
TZNAME:ACDT
DTSTART:20191005T163000
END:DAYLIGHT
END:VTIMEZONE
BEGIN:VEVENT
DTSTART;VALUE=DATE:20190402
DTEND;VALUE=DATE:20190404
DTSTAMP:20210224T091832
CREATED:20190118T033339Z
LAST-MODIFIED:20190118T033445Z
UID:6657-1554163200-1554335999@advi.org.au
SUMMARY:2nd European Conference on Connected and Automated Driving
DESCRIPTION:The European Commission\, with the support of the EC-funded project ARCADE\, is pleased to announce its Second European Conference on connected and automated driving: \n‘Connected Automated Driving: Europe takes the lead’ \nThe deployment of Connected and Automated Driving (CAD) can contribute significantly to our policy goals of bringing down the number of road fatalities\, reducing harmful emissions from transport and reducing congestion. At the same time\, automated mobility has the potential to strengthen the competitiveness of European industry\, create new jobs and boost economic growth. \nIt is the ambition of the European Commission to make Europe a world leader in the deployment of connected and automated mobility. Technological progress is very fast and the market for connected and automated vehicles is expected to grow exponentially. \n
URL:https://advi.org.au/event/2nd-european-conference-on-connected-and-automated-driving/
LOCATION:Brussels\, Brussels\, Belgium
END:VEVENT
END:VCALENDAR